BEGIN:VCALENDAR
VERSION:2.0
PRODID:-//English River Outfitters - ECPv6.15.15//NONSGML v1.0//EN
CALSCALE:GREGORIAN
METHOD:PUBLISH
X-ORIGINAL-URL:https://englishriveroutfitters.com
X-WR-CALDESC:Events for English River Outfitters
REFRESH-INTERVAL;VALUE=DURATION:PT1H
X-Robots-Tag:noindex
X-PUBLISHED-TTL:PT1H
BEGIN:VTIMEZONE
TZID:America/Chicago
BEGIN:DAYLIGHT
TZOFFSETFROM:-0600
TZOFFSETTO:-0500
TZNAME:CDT
DTSTART:20250309T080000
END:DAYLIGHT
BEGIN:STANDARD
TZOFFSETFROM:-0500
TZOFFSETTO:-0600
TZNAME:CST
DTSTART:20251102T070000
END:STANDARD
BEGIN:DAYLIGHT
TZOFFSETFROM:-0600
TZOFFSETTO:-0500
TZNAME:CDT
DTSTART:20260308T080000
END:DAYLIGHT
BEGIN:STANDARD
TZOFFSETFROM:-0500
TZOFFSETTO:-0600
TZNAME:CST
DTSTART:20261101T070000
END:STANDARD
BEGIN:DAYLIGHT
TZOFFSETFROM:-0600
TZOFFSETTO:-0500
TZNAME:CDT
DTSTART:20270314T080000
END:DAYLIGHT
BEGIN:STANDARD
TZOFFSETFROM:-0500
TZOFFSETTO:-0600
TZNAME:CST
DTSTART:20271107T070000
END:STANDARD
END:VTIMEZONE
BEGIN:VEVENT
DTSTART;VALUE=DATE:20260821
DTEND;VALUE=DATE:20260824
DTSTAMP:20260420T151817
CREATED:20260302T193127Z
LAST-MODIFIED:20260302T193311Z
UID:2053-1787270400-1787529599@englishriveroutfitters.com
SUMMARY:4th Annual Veterans Women's Gathering
DESCRIPTION:Come out for a weekend of healing in nature. \nSchedule\, TBD. Here is the event schedule from last year.  \n\nFriday Evening (optional) Settle in\, Relax\, Connect.\nSaturday: 9am Opening gathering\n\nNature & Forest Therapy\nSound Healing and Energy Medicine\nInspirational Creative Project\nSunday: Closing Ceremony 10am\n\n\nPre-registration required: Stay tuned for how to register.
URL:https://englishriveroutfitters.com/event/3rd-annual-veterans-womens-gathering-copy/
LOCATION:English River Outfitters Lodge\, 2564 305th St\, Washington\, IA\, 52353\, United States
CATEGORIES:Special Event
END:VEVENT
END:VCALENDAR